BEGIN:VCALENDAR
VERSION:2.0
PRODID:-//Vihara Sukhavati Prajna - ECPv5.1.0//NONSGML v1.0//EN
CALSCALE:GREGORIAN
METHOD:PUBLISH
X-WR-CALNAME:Vihara Sukhavati Prajna
X-ORIGINAL-URL:https://viharasukhavatiprajna.or.id
X-WR-CALDESC:Events for Vihara Sukhavati Prajna
BEGIN:VTIMEZONE
TZID:Asia/Krasnoyarsk
BEGIN:STANDARD
TZOFFSETFROM:+0700
TZOFFSETTO:+0700
TZNAME:+07
DTSTART:20260101T000000
END:STANDARD
END:VTIMEZONE
BEGIN:VEVENT
DTSTART;TZID=Asia/Krasnoyarsk:20260417T193000
DTEND;TZID=Asia/Krasnoyarsk:20260417T210000
DTSTAMP:20260422T141326
CREATED:20260323T082537Z
LAST-MODIFIED:20260416T041803Z
UID:5433-1776454200-1776459600@viharasukhavatiprajna.or.id
SUMMARY:Meditasi Yoga Sukhavati
DESCRIPTION:Meditasi Yoga Sukhavati Tantra diadakan di Vihara Sukhavati Prajna\,\n(dengan iringan panduan 1) Panduan Meditasi Melancarkan Chi\nAlamat : Poris Indah\, Jln. Galaxy 4 Blok G8 No.15\, Cipondoh Indah\, Cipondoh\, Kota Tangerang\, Banten.\nTema Sharing: Indah Pada Waktunya \nOleh: PD. Wen Zhu \n
URL:https://viharasukhavatiprajna.or.id/event/meditasi-yoga-sukhavati-6/
LOCATION:Vihara Sukhavati Prajna\, Vihara Sukhavati Prajna\, Jalan Galaxy Raya 4 Blok G8 No.15\, Poris Indah\, Kota Tangerang\, Banten\, 15148\, Indonesia
END:VEVENT
END:VCALENDAR