BEGIN:VCALENDAR
VERSION:2.0
PRODID:-//Vihara Sukhavati Prajna - ECPv5.1.0//NONSGML v1.0//EN
CALSCALE:GREGORIAN
METHOD:PUBLISH
X-WR-CALNAME:Vihara Sukhavati Prajna
X-ORIGINAL-URL:https://viharasukhavatiprajna.or.id
X-WR-CALDESC:Events for Vihara Sukhavati Prajna
BEGIN:VTIMEZONE
TZID:Asia/Krasnoyarsk
BEGIN:STANDARD
TZOFFSETFROM:+0700
TZOFFSETTO:+0700
TZNAME:+07
DTSTART:20260101T000000
END:STANDARD
END:VTIMEZONE
BEGIN:VEVENT
DTSTART;TZID=Asia/Krasnoyarsk:20260412T130000
DTEND;TZID=Asia/Krasnoyarsk:20260412T153000
DTSTAMP:20260419T040230
CREATED:20260323T082155Z
LAST-MODIFIED:20260323T082155Z
UID:5427-1775998800-1776007800@viharasukhavatiprajna.or.id
SUMMARY:Pujabakti Memperingati HUT MB. Avalokitesvara Dan MB. Avalokitesvara Seribu Tangan Seribu Mata
DESCRIPTION:Namo Amitabha Buddhaya\, \nAtas pemberkatan dari para Buddha Bodhisattva\, Vihara Vajrasattva Prajna hendak menyelenggarakan upacara dalam rangka memperingati Hari Ulang Tahun dari Maha Bodhisattva Avalokitesvara Seribu Tangan Seribu Mata & Maha Bodhisattva Avalokitesvara\, \nYang akan dilaksanakan pada:\n🗓 : Minggu\, 12 April 2026\n⏰ : 13:00 WIB\n📍 : Vihara Vajrasattva Prajna\n☸ Dipimpin oleh : MVA.V. Sukhavati Prajna C.\n(Memakai baju berwarna putih saat upacara) \nAcara:\n– Membaca Sutra Raja Agung Avalokitesvara.\n– Membaca Sutra Phu Men Phin.\n– Menjapa Mantera hati Maha Bodhisattva Avalokitesvara &\nMaha Bodhisattva Avalokitesvara Seribu Tangan Seribu Mata.\n– Pemasangan Pelita dan Lingpai permohonan berkah.\n– Pradaksina. \nManfaat Upacara:\n– Mendapatkan perlindungan\, kesehatan & keselamatan.\n– Penyembuhan Penyakit.\n– Membersihkan tubuh\, hati & pikiran. \nUntuk informasi dan pendaftaran dapat menghubungi:\nP.L. Pindhaka Dhayani/ Dewi Sartika\n📱 0858-8582-6363 \nBagi umat sedharma yang hendak berpartisipasi atau berdana konsumsi makanan dan minuman dalam acara ini\, dapat mentransfer dana melalui rekening bank di bawah ini :\nYAYASAN VIHARA VAJRASATTVA PRAJNA\nBCA Rek. No. 757-1939189 \n“Kegiatan ini diselenggarakan dengan semangat kebersamaan dan kebajikan. Partisipasi umat sepenuhnya bersifat keikhlasan hati\, tanpa adanya paksaan dalam bentuk apa pun.”\n—###— \n
URL:https://viharasukhavatiprajna.or.id/event/pujabakti-memperingati-hut-mb-avalokitesvara-dan-mb-avalokitesvara-seribu-tangan-seribu-mata/
LOCATION:MASUKHAVATI/Vihara Vajrasattva Prajna\, MASUKHAVATI/Vihara Vajrasattva Prajna\, Ruko Hawaiian\, City Resort Blok A-69\, Cengkareng Timur\, Kecamatan Cengkareng\, Jakarta Barat\, DKI JAKARTA\, 11730\, Indonesia
END:VEVENT
END:VCALENDAR