BEGIN:VCALENDAR
VERSION:2.0
PRODID:-//Vihara Sukhavati Prajna - ECPv5.1.0//NONSGML v1.0//EN
CALSCALE:GREGORIAN
METHOD:PUBLISH
X-WR-CALNAME:Vihara Sukhavati Prajna
X-ORIGINAL-URL:https://viharasukhavatiprajna.or.id
X-WR-CALDESC:Events for Vihara Sukhavati Prajna
BEGIN:VTIMEZONE
TZID:Asia/Krasnoyarsk
BEGIN:STANDARD
TZOFFSETFROM:+0700
TZOFFSETTO:+0700
TZNAME:+07
DTSTART:20260101T000000
END:STANDARD
END:VTIMEZONE
BEGIN:VEVENT
DTSTART;TZID=Asia/Krasnoyarsk:20260419T100000
DTEND;TZID=Asia/Krasnoyarsk:20260419T113000
DTSTAMP:20260422T123454
CREATED:20260323T061955Z
LAST-MODIFIED:20260323T082841Z
UID:5405-1776592800-1776598200@viharasukhavatiprajna.or.id
SUMMARY:Sekolah Minggu Buddha Sukhavati Prajna
DESCRIPTION:SMB Sukhavati Prajna\, jam kegiatan dimulai pada jam 10 pagi. \n
URL:https://viharasukhavatiprajna.or.id/event/sekolah-minggu-buddha-sukhavati-prajna/
LOCATION:SMB SUKHAVATI PRAJNA\, Jl. Galaxy 4\, RT.003/RW.001\, Cipondoh Indah\, Cipondoh\, Tangerang\, Banten\, 15148\, Indonesia
END:VEVENT
END:VCALENDAR